BEGIN:VCALENDAR
VERSION:2.0
PRODID:-//CFFP - ECPv6.10.1//NONSGML v1.0//EN
CALSCALE:GREGORIAN
METHOD:PUBLISH
X-WR-CALNAME:CFFP
X-ORIGINAL-URL:https://centreforfeministforeignpolicy.org
X-WR-CALDESC:Events for CFFP
REFRESH-INTERVAL;VALUE=DURATION:PT1H
X-Robots-Tag:noindex
X-PUBLISHED-TTL:PT1H
BEGIN:VTIMEZONE
TZID:Europe/Berlin
BEGIN:DAYLIGHT
TZOFFSETFROM:+0100
TZOFFSETTO:+0200
TZNAME:CEST
DTSTART:20240331T010000
END:DAYLIGHT
BEGIN:STANDARD
TZOFFSETFROM:+0200
TZOFFSETTO:+0100
TZNAME:CET
DTSTART:20241027T010000
END:STANDARD
END:VTIMEZONE
BEGIN:VEVENT
DTSTART;TZID=Europe/Berlin:20241021T115500
DTEND;TZID=Europe/Berlin:20241021T150000
DTSTAMP:20260423T194349
CREATED:20250123T092047Z
LAST-MODIFIED:20250123T092047Z
UID:10735-1729511700-1729522800@centreforfeministforeignpolicy.org
SUMMARY:Femizide verhindern. Abtreibungen legalisieren.
DESCRIPTION:Jetzt ist die Zeit zu handeln! Schließe dich uns an und setze ein starkes Zeichen für Frauenrechte! ✊ \nJeden zweiten Tag wird in Deutschland eine Frau von einem (Ex-)Partner getötet\, die männliche Gewalt gegen Frauen nimmt zu\, und die Verurteilungsraten bleiben erschreckend niedrig. Der Zugang zu sicheren und legalen Abtreibungen ist aufgrund der Kriminalisierung von Schwangerschaftsabbrüchen in Paragraf 218 StGB weiterhin nicht möglich und die Versorgungslage wird immer schlechter. Wir fordern endlich unsere Rechte ein: auf Sicherheit und Selbstbestimmung. \nWir erleben außerdem\, dass die Räume für Frauen\, sich öffentlich zu äußern\, immer enger werden. Der Frauenhass im Netz\, der auch Auswirkungen auf die Bewegungsfreiheit im analogen Raum für Frauen hat\, nimmt ein besorgniserregendes Ausmaß an. Immer mehr Frauen wagen es nicht mehr\, sich zu politischen oder gesellschaftlichen Themen zu äußern – aus Angst zur Zielscheibe von Männern zu werden\, die nicht etwa ein Problem mit ihren Positionen haben\, sondern es nicht ertragen\, dass Frauen eine Stimme haben und mitbestimmen wollen. Die Organisator:innen erleben diese Form des Frauenhasses selbst tagtäglich. Wir sagen: Genug! Jetzt ist die Zeit\, sich zu vernetzen und aufzustehen! \nAngesichts des zunehmenden Rechtsrucks in Deutschland könnte dies für viele Jahre unsere letzte Chance sein\, wirkungsvolle Maßnahmen für mehr Schutz und Sicherheit durchzusetzen. Die „Fortschritts-Koalition“ muss endlich ihren Versprechen nachkommen und im Sinne des Koalitionsvertrages Frauen besser schützen und unterstützen. Wir dürfen nicht länger zusehen\, wie (wir) Frauen getötet\, bedroht und in die Verzweiflung getrieben werden. \n🌍💪 Komm zu diesem besonderen Anlass zusammen mit anderen beeindruckenden und berühmten Frauen sowie Expertinnen\, um ein Zeichen für Frauenrechte zu setzen. \n📅 Wann? Montag\, 21. Oktober 2024\n🕒 Einlass: 10:30 Uhr (letzter Einlass: 11.30 Uhr) / Beginn: 11:55 Uhr\n📍 Wo? Fotografiska\, Berlin-Mitte \nOrganisiert von Düzen Tekkal und Kristina Lunz Policy mit ihren Teams bei HÁWAR.help und dem Centre for Feminist Foreign Policy sowie einem starken Bündnis\, u.a. Bestehend aus: FRAUEN100\, Deutscher Juristinnenbund\, Amnesty International Deutschland\, Deutscher Frauenrat\, Bündnis für sexuelle Selbstbestimmung und vielen vielen mehr.\n\nEine Auswahl der bereits bestätigten Sprecherinnen: \nAnnalena Baerbock\,\nDüzen Tekkal\, HÁWAR.help\nKristina Lunz\, Centre for Feminist Foreign Policy\nMareile Höppner\nRegina Halmich\nUrsula Karven\nNatalia Wörner\nSigrid Nikutta\nJagoda Marinić\nElena Carrière\nTara-Louise Wittwer\nVreni Frost\nCaroline Rosales\nJeannette Gusko\nIsa Sonnenfeld\nMaria Astor\nShila Behjat\nChristina Clemm\nAnastasia Barner\nLex Grassmann\nAnnika Kreitlow\nDilken Çelebi\nUvm. \n🎤🎵 Für das musikalische Rahmenprogramm sorgen Wilhelmine\, Mina Richman und DJ Filar\, die mit ihrer Musik inspirieren und motivieren.
URL:https://centreforfeministforeignpolicy.org/event/femzidie-verhindern-abtreibungen-legalisieren/
LOCATION:Fotografiska Berlin\, Oranienburger Str. 54\, Berlin\, 10117\, Germany
CATEGORIES:Human Rights
ATTACH;FMTTYPE=image/png:https://centreforfeministforeignpolicy.org/wordpress/wp-content/uploads/2024/10/Hauptposting_01_Pressemeldung.png
END:VEVENT
END:VCALENDAR